Package: ComplexHeatmap Version: 2.24.0 Command: /Library/Frameworks/R.framework/Resources/bin/R CMD build --keep-empty-dirs --no-resave-data ComplexHeatmap StartedAt: 2025-04-21 16:22:42 -0400 (Mon, 21 Apr 2025) EndedAt: 2025-04-21 16:23:23 -0400 (Mon, 21 Apr 2025) EllapsedTime: 41.1 seconds RetCode: 0 Status: OK PackageFile: ComplexHeatmap_2.24.0.tar.gz PackageFileSize: 1.411 MiB