Package: ComPrAn Version: 1.18.0 Command: /home/biocbuild/bbs-3.22-bioc/R/bin/R CMD check --install=check:ComPrAn.install-out.txt --library=/home/biocbuild/bbs-3.22-bioc/R/site-library --timings ComPrAn_1.18.0.tar.gz StartedAt: 2025-11-13 22:26:53 -0500 (Thu, 13 Nov 2025) EndedAt: 2025-11-13 22:28:29 -0500 (Thu, 13 Nov 2025) EllapsedTime: 96.1 seconds RetCode: 0 Status: OK CheckDir: ComPrAn.Rcheck Warnings: 0