Package: ComPrAn Version: 1.18.0 Command: /home/biocbuild/bbs-3.22-bioc/R/bin/R CMD build --keep-empty-dirs --no-resave-data --md5 ComPrAn StartedAt: 2025-11-11 17:02:47 -0500 (Tue, 11 Nov 2025) EndedAt: 2025-11-11 17:03:09 -0500 (Tue, 11 Nov 2025) EllapsedTime: 22.0 seconds RetCode: 0 Status: OK PackageFile: ComPrAn_1.18.0.tar.gz PackageFileSize: 3.282 MiB