Package: ComPrAn Version: 1.16.0 Command: /home/biocbuild/bbs-3.21-bioc/R/bin/R CMD build --keep-empty-dirs --no-resave-data ComPrAn StartedAt: 2025-10-15 16:53:04 -0400 (Wed, 15 Oct 2025) EndedAt: 2025-10-15 16:53:27 -0400 (Wed, 15 Oct 2025) EllapsedTime: 23.0 seconds RetCode: 0 Status: OK PackageFile: ComPrAn_1.16.0.tar.gz PackageFileSize: 3.278 MiB