Package: ComPrAn Version: 1.18.0 Command: /Library/Frameworks/R.framework/Resources/bin/R CMD INSTALL ComPrAn StartedAt: 2025-11-03 15:16:34 -0500 (Mon, 03 Nov 2025) EndedAt: 2025-11-03 15:17:11 -0500 (Mon, 03 Nov 2025) EllapsedTime: 36.4 seconds RetCode: 0 Status: OK