Package: ComPrAn Version: 1.16.0 Command: /home/biocbuild/R/R/bin/R CMD INSTALL ComPrAn StartedAt: 2025-10-06 20:20:55 -0000 (Mon, 06 Oct 2025) EndedAt: 2025-10-06 20:21:10 -0000 (Mon, 06 Oct 2025) EllapsedTime: 15.2 seconds RetCode: 0 Status: OK