Package: ComPrAn Version: 1.16.0 Command: /home/biocbuild/R/R/bin/R CMD build --keep-empty-dirs --no-resave-data ComPrAn StartedAt: 2025-10-06 23:51:14 -0000 (Mon, 06 Oct 2025) EndedAt: 2025-10-06 23:51:45 -0000 (Mon, 06 Oct 2025) EllapsedTime: 31.0 seconds RetCode: 0 Status: OK PackageFile: ComPrAn_1.16.0.tar.gz PackageFileSize: 3.246 MiB