Package: ComPrAn Version: 1.18.0 Command: /Library/Frameworks/R.framework/Resources/bin/R CMD INSTALL ComPrAn StartedAt: 2025-11-10 15:05:35 -0500 (Mon, 10 Nov 2025) EndedAt: 2025-11-10 15:05:40 -0500 (Mon, 10 Nov 2025) EllapsedTime: 5.6 seconds RetCode: 0 Status: OK