Package: ComPrAn Version: 1.18.0 Command: /Library/Frameworks/R.framework/Resources/bin/R CMD build --keep-empty-dirs --no-resave-data ComPrAn StartedAt: 2025-11-10 16:00:33 -0500 (Mon, 10 Nov 2025) EndedAt: 2025-11-10 16:00:44 -0500 (Mon, 10 Nov 2025) EllapsedTime: 10.1 seconds RetCode: 0 Status: OK PackageFile: ComPrAn_1.18.0.tar.gz PackageFileSize: 3.35 MiB