Package: Cogito Version: 1.16.0 Command: /home/biocbuild/bbs-3.22-bioc/R/bin/R CMD INSTALL Cogito StartedAt: 2025-11-11 15:47:47 -0500 (Tue, 11 Nov 2025) EndedAt: 2025-11-11 15:48:26 -0500 (Tue, 11 Nov 2025) EllapsedTime: 38.9 seconds RetCode: 0 Status: OK