Package: Cogito Version: 1.16.0 Command: /home/biocbuild/bbs-3.22-bioc/R/bin/R CMD build --keep-empty-dirs --no-resave-data --md5 Cogito StartedAt: 2025-11-11 17:01:12 -0500 (Tue, 11 Nov 2025) EndedAt: 2025-11-11 17:02:21 -0500 (Tue, 11 Nov 2025) EllapsedTime: 69.0 seconds RetCode: 0 Status: OK PackageFile: Cogito_1.16.0.tar.gz PackageFileSize: 870.5 KiB