Package: Cogito Version: 1.16.0 Command: /Library/Frameworks/R.framework/Resources/bin/R CMD INSTALL Cogito StartedAt: 2025-11-10 15:22:34 -0500 (Mon, 10 Nov 2025) EndedAt: 2025-11-10 15:22:49 -0500 (Mon, 10 Nov 2025) EllapsedTime: 15.4 seconds RetCode: 0 Status: OK