Package: Cogito Version: 1.16.0 Command: /Library/Frameworks/R.framework/Resources/bin/R CMD build --keep-empty-dirs --no-resave-data Cogito StartedAt: 2025-11-10 15:59:50 -0500 (Mon, 10 Nov 2025) EndedAt: 2025-11-10 16:00:20 -0500 (Mon, 10 Nov 2025) EllapsedTime: 30.4 seconds RetCode: 0 Status: OK PackageFile: Cogito_1.16.0.tar.gz PackageFileSize: 869.3 KiB