Package: CoSIA Version: 1.10.1 Command: /home/biocbuild/bbs-3.22-bioc/R/bin/R CMD INSTALL CoSIA StartedAt: 2025-11-11 16:05:38 -0500 (Tue, 11 Nov 2025) EndedAt: 2025-11-11 16:05:55 -0500 (Tue, 11 Nov 2025) EllapsedTime: 17.2 seconds RetCode: 0 Status: OK