Package: CoSIA Version: 1.10.1 Command: /home/biocbuild/bbs-3.22-bioc/R/bin/R CMD build --keep-empty-dirs --no-resave-data --md5 CoSIA StartedAt: 2025-11-11 17:05:43 -0500 (Tue, 11 Nov 2025) EndedAt: 2025-11-11 17:12:16 -0500 (Tue, 11 Nov 2025) EllapsedTime: 393.3 seconds RetCode: 0 Status: OK PackageFile: CoSIA_1.10.1.tar.gz PackageFileSize: 1.168 MiB