Package: CoGAPS Version: 3.30.0 Command: /Library/Frameworks/R.framework/Resources/bin/R CMD INSTALL CoGAPS StartedAt: 2025-11-10 15:12:19 -0500 (Mon, 10 Nov 2025) EndedAt: 2025-11-10 15:13:01 -0500 (Mon, 10 Nov 2025) EllapsedTime: 42.1 seconds RetCode: 0 Status: OK