Package: CoGAPS Version: 3.30.0 Command: rm -rf CoGAPS.buildbin-libdir && mkdir CoGAPS.buildbin-libdir && /Users/biocbuild/BBS/utils/build-universal.sh CoGAPS_3.30.0.tar.gz /Library/Frameworks/R.framework/Resources/bin/R CoGAPS.buildbin-libdir StartedAt: 2025-11-10 23:15:34 -0500 (Mon, 10 Nov 2025) EndedAt: 2025-11-10 23:16:20 -0500 (Mon, 10 Nov 2025) EllapsedTime: 45.8 seconds RetCode: 0 Status: OK PackageFile: CoGAPS_3.30.0.tgz PackageFileSize: 20.51 MiB