Package: CoCiteStats Version: 1.80.0 Command: /home/biocbuild/bbs-3.21-bioc/R/bin/R CMD INSTALL CoCiteStats StartedAt: 2025-10-15 15:37:27 -0400 (Wed, 15 Oct 2025) EndedAt: 2025-10-15 15:37:40 -0400 (Wed, 15 Oct 2025) EllapsedTime: 12.7 seconds RetCode: 0 Status: OK