Package: CoCiteStats Version: 1.80.0 Command: /home/biocbuild/bbs-3.21-bioc/R/bin/R CMD build --keep-empty-dirs --no-resave-data CoCiteStats StartedAt: 2025-10-15 16:50:07 -0400 (Wed, 15 Oct 2025) EndedAt: 2025-10-15 16:50:08 -0400 (Wed, 15 Oct 2025) EllapsedTime: 1.0 seconds RetCode: 0 Status: OK PackageFile: CoCiteStats_1.80.0.tar.gz PackageFileSize: 5.339 KiB