Package: CoCiteStats Version: 1.82.0 Command: /Library/Frameworks/R.framework/Resources/bin/R CMD build --keep-empty-dirs --no-resave-data CoCiteStats StartedAt: 2025-11-02 16:36:02 -0500 (Sun, 02 Nov 2025) EndedAt: 2025-11-02 16:36:03 -0500 (Sun, 02 Nov 2025) EllapsedTime: 1.2 seconds RetCode: 0 Status: OK PackageFile: CoCiteStats_1.82.0.tar.gz PackageFileSize: 5.346 KiB