Package: CoCiteStats Version: 1.82.0 Command: rm -rf CoCiteStats.buildbin-libdir && mkdir CoCiteStats.buildbin-libdir && /Users/biocbuild/BBS/utils/build-universal.sh CoCiteStats_1.82.0.tar.gz /Library/Frameworks/R.framework/Resources/bin/R CoCiteStats.buildbin-libdir StartedAt: 2025-11-03 01:34:27 -0500 (Mon, 03 Nov 2025) EndedAt: 2025-11-03 01:34:47 -0500 (Mon, 03 Nov 2025) EllapsedTime: 19.8 seconds RetCode: 0 Status: OK PackageFile: CoCiteStats_1.82.0.tgz PackageFileSize: 32.23 KiB