Package: CoCiteStats Version: 1.80.0 Command: /home/biocbuild/R/R/bin/R CMD INSTALL CoCiteStats StartedAt: 2025-10-13 20:52:49 -0000 (Mon, 13 Oct 2025) EndedAt: 2025-10-13 20:53:07 -0000 (Mon, 13 Oct 2025) EllapsedTime: 18.1 seconds RetCode: 0 Status: OK