Package: ClusterSignificance Version: 1.38.0 Command: /home/biocbuild/R/R/bin/R CMD INSTALL ClusterSignificance StartedAt: 2025-11-13 21:07:55 -0000 (Thu, 13 Nov 2025) EndedAt: 2025-11-13 21:08:46 -0000 (Thu, 13 Nov 2025) EllapsedTime: 50.2 seconds RetCode: 0 Status: OK