Package: ClusterSignificance Version: 1.38.0 Command: /home/biocbuild/R/R/bin/R CMD build --keep-empty-dirs --no-resave-data ClusterSignificance StartedAt: 2025-11-14 00:43:00 -0000 (Fri, 14 Nov 2025) EndedAt: 2025-11-14 00:44:33 -0000 (Fri, 14 Nov 2025) EllapsedTime: 93.0 seconds RetCode: 0 Status: OK PackageFile: ClusterSignificance_1.38.0.tar.gz PackageFileSize: 1.448 MiB