Package: ClusterSignificance Version: 1.38.0 Command: /home/biocbuild/bbs-3.22-bioc/R/bin/R CMD check --install=check:ClusterSignificance.install-out.txt --library=/home/biocbuild/bbs-3.22-bioc/R/site-library --timings ClusterSignificance_1.38.0.tar.gz StartedAt: 2025-11-11 22:19:15 -0500 (Tue, 11 Nov 2025) EndedAt: 2025-11-11 22:20:42 -0500 (Tue, 11 Nov 2025) EllapsedTime: 87.1 seconds RetCode: 0 Status: OK CheckDir: ClusterSignificance.Rcheck Warnings: 0