Package: ClusterSignificance Version: 1.38.0 Command: /home/biocbuild/bbs-3.22-bioc/R/bin/R CMD build --keep-empty-dirs --no-resave-data --md5 ClusterSignificance StartedAt: 2025-11-13 16:55:25 -0500 (Thu, 13 Nov 2025) EndedAt: 2025-11-13 16:56:27 -0500 (Thu, 13 Nov 2025) EllapsedTime: 62.0 seconds RetCode: 0 Status: OK PackageFile: ClusterSignificance_1.38.0.tar.gz PackageFileSize: 1.829 MiB