Package: ClusterSignificance Version: 1.36.0 Command: /Library/Frameworks/R.framework/Resources/bin/R CMD INSTALL ClusterSignificance StartedAt: 2025-10-06 15:08:48 -0400 (Mon, 06 Oct 2025) EndedAt: 2025-10-06 15:09:15 -0400 (Mon, 06 Oct 2025) EllapsedTime: 27.1 seconds RetCode: 0 Status: OK