Package: ClusterSignificance Version: 1.36.0 Command: /Library/Frameworks/R.framework/Resources/bin/R CMD INSTALL ClusterSignificance StartedAt: 2025-09-25 15:15:11 -0400 (Thu, 25 Sep 2025) EndedAt: 2025-09-25 15:15:22 -0400 (Thu, 25 Sep 2025) EllapsedTime: 10.4 seconds RetCode: 0 Status: OK