Package: ClusterJudge Version: 1.32.0 Command: /home/biocbuild/R/R/bin/R CMD INSTALL ClusterJudge StartedAt: 2025-11-13 21:17:00 -0000 (Thu, 13 Nov 2025) EndedAt: 2025-11-13 21:17:21 -0000 (Thu, 13 Nov 2025) EllapsedTime: 20.7 seconds RetCode: 0 Status: OK