Package: ClusterJudge Version: 1.32.0 Command: /home/biocbuild/R/R/bin/R CMD build --keep-empty-dirs --no-resave-data ClusterJudge StartedAt: 2025-11-14 00:42:19 -0000 (Fri, 14 Nov 2025) EndedAt: 2025-11-14 00:43:23 -0000 (Fri, 14 Nov 2025) EllapsedTime: 64.0 seconds RetCode: 0 Status: OK PackageFile: ClusterJudge_1.32.0.tar.gz PackageFileSize: 864.3 KiB