Package: ClusterJudge Version: 1.32.0 Command: /home/biocbuild/bbs-3.22-bioc/R/bin/R CMD check --install=check:ClusterJudge.install-out.txt --library=/home/biocbuild/bbs-3.22-bioc/R/site-library --timings ClusterJudge_1.32.0.tar.gz StartedAt: 2025-11-11 22:17:46 -0500 (Tue, 11 Nov 2025) EndedAt: 2025-11-11 22:21:02 -0500 (Tue, 11 Nov 2025) EllapsedTime: 196.1 seconds RetCode: 0 Status: OK CheckDir: ClusterJudge.Rcheck Warnings: 0