Package: ClusterJudge Version: 1.30.0 Command: /home/biocbuild/bbs-3.21-bioc/R/bin/R CMD INSTALL ClusterJudge StartedAt: 2025-10-08 15:11:29 -0400 (Wed, 08 Oct 2025) EndedAt: 2025-10-08 15:11:35 -0400 (Wed, 08 Oct 2025) EllapsedTime: 5.7 seconds RetCode: 0 Status: OK