Package: ClusterJudge Version: 1.30.0 Command: /home/biocbuild/bbs-3.21-bioc/R/bin/R CMD build --keep-empty-dirs --no-resave-data ClusterJudge StartedAt: 2025-10-08 16:48:33 -0400 (Wed, 08 Oct 2025) EndedAt: 2025-10-08 16:49:16 -0400 (Wed, 08 Oct 2025) EllapsedTime: 43.1 seconds RetCode: 0 Status: OK PackageFile: ClusterJudge_1.30.0.tar.gz PackageFileSize: 940.2 KiB