Package: ClusterJudge Version: 1.30.0 Command: /Library/Frameworks/R.framework/Resources/bin/R CMD build --keep-empty-dirs --no-resave-data ClusterJudge StartedAt: 2025-04-21 16:19:39 -0400 (Mon, 21 Apr 2025) EndedAt: 2025-04-21 16:20:34 -0400 (Mon, 21 Apr 2025) EllapsedTime: 54.8 seconds RetCode: 0 Status: OK PackageFile: ClusterJudge_1.30.0.tar.gz PackageFileSize: 957.1 KiB