Package: ClusterJudge Version: 1.30.0 Command: /Library/Frameworks/R.framework/Resources/bin/R CMD INSTALL ClusterJudge StartedAt: 2025-10-06 15:31:36 -0400 (Mon, 06 Oct 2025) EndedAt: 2025-10-06 15:31:41 -0400 (Mon, 06 Oct 2025) EllapsedTime: 5.3 seconds RetCode: 0 Status: OK