Package: ClusterJudge Version: 1.30.0 Command: rm -rf ClusterJudge.buildbin-libdir && mkdir ClusterJudge.buildbin-libdir && /Users/biocbuild/BBS/utils/build-universal.sh ClusterJudge_1.30.0.tar.gz /Library/Frameworks/R.framework/Resources/bin/R ClusterJudge.buildbin-libdir StartedAt: 2025-10-08 20:15:05 -0400 (Wed, 08 Oct 2025) EndedAt: 2025-10-08 20:15:12 -0400 (Wed, 08 Oct 2025) EllapsedTime: 7.0 seconds RetCode: 0 Status: OK PackageFile: ClusterJudge_1.30.0.tgz PackageFileSize: 4.395 MiB