Package: ClusterJudge Version: 1.30.0 Maintainer: Adrian Pasculescu MaintainerEmail: a.pasculescu at gmail.com git_url: https://git.bioconductor.org/packages/ClusterJudge git_branch: RELEASE_3_21 git_last_commit: ded1f3b git_last_commit_date: 2025-04-15 11:12:18 -0400 (Tue, 15 Apr 2025)