Package: ClusterFoldSimilarity Version: 1.6.0 Command: /home/biocbuild/R/R/bin/R CMD build --keep-empty-dirs --no-resave-data ClusterFoldSimilarity StartedAt: 2025-11-14 00:42:08 -0000 (Fri, 14 Nov 2025) EndedAt: 2025-11-14 00:54:34 -0000 (Fri, 14 Nov 2025) EllapsedTime: 746.3 seconds RetCode: 0 Status: OK PackageFile: ClusterFoldSimilarity_1.6.0.tar.gz PackageFileSize: 836.1 KiB