Package: ClusterFoldSimilarity Version: 1.6.0 Command: /home/biocbuild/bbs-3.22-bioc/R/bin/R CMD INSTALL ClusterFoldSimilarity StartedAt: 2025-11-11 15:27:05 -0500 (Tue, 11 Nov 2025) EndedAt: 2025-11-11 15:27:40 -0500 (Tue, 11 Nov 2025) EllapsedTime: 35.2 seconds RetCode: 0 Status: OK