Package: ClusterFoldSimilarity Version: 1.6.0 Command: /home/biocbuild/bbs-3.22-bioc/R/bin/R CMD check --install=check:ClusterFoldSimilarity.install-out.txt --library=/home/biocbuild/bbs-3.22-bioc/R/site-library --timings ClusterFoldSimilarity_1.6.0.tar.gz StartedAt: 2025-11-11 22:17:34 -0500 (Tue, 11 Nov 2025) EndedAt: 2025-11-11 22:29:43 -0500 (Tue, 11 Nov 2025) EllapsedTime: 728.8 seconds RetCode: 0 Status: WARNINGS CheckDir: ClusterFoldSimilarity.Rcheck Warnings: 1