Package: ClusterFoldSimilarity Version: 1.6.0 Command: /home/biocbuild/bbs-3.22-bioc/R/bin/R CMD build --keep-empty-dirs --no-resave-data --md5 ClusterFoldSimilarity StartedAt: 2025-11-11 16:57:24 -0500 (Tue, 11 Nov 2025) EndedAt: 2025-11-11 17:05:47 -0500 (Tue, 11 Nov 2025) EllapsedTime: 503.5 seconds RetCode: 0 Status: OK PackageFile: ClusterFoldSimilarity_1.6.0.tar.gz PackageFileSize: 1.573 MiB