Package: ClusterFoldSimilarity Version: 1.4.0 Command: /Library/Frameworks/R.framework/Resources/bin/R CMD INSTALL ClusterFoldSimilarity StartedAt: 2025-10-13 15:41:15 -0400 (Mon, 13 Oct 2025) EndedAt: 2025-10-13 15:42:35 -0400 (Mon, 13 Oct 2025) EllapsedTime: 79.3 seconds RetCode: 0 Status: OK