Package: ClustIRR Version: 1.8.0 Command: /home/biocbuild/R/R/bin/R CMD INSTALL ClustIRR StartedAt: 2025-11-10 21:12:29 -0000 (Mon, 10 Nov 2025) EndedAt: 2025-11-10 21:17:24 -0000 (Mon, 10 Nov 2025) EllapsedTime: 294.8 seconds RetCode: 0 Status: OK