Package: ClustIRR Version: 1.8.0 Command: /home/biocbuild/bbs-3.22-bioc/R/bin/R CMD check --install=check:ClustIRR.install-out.txt --library=/home/biocbuild/bbs-3.22-bioc/R/site-library --timings ClustIRR_1.8.0.tar.gz StartedAt: 2025-11-11 22:20:05 -0500 (Tue, 11 Nov 2025) EndedAt: 2025-11-11 22:34:14 -0500 (Tue, 11 Nov 2025) EllapsedTime: 848.9 seconds RetCode: 0 Status: OK CheckDir: ClustIRR.Rcheck Warnings: 0