Package: ClustIRR Version: 1.8.0 Command: /home/biocbuild/bbs-3.22-bioc/R/bin/R CMD build --keep-empty-dirs --no-resave-data --md5 ClustIRR StartedAt: 2025-11-11 16:58:16 -0500 (Tue, 11 Nov 2025) EndedAt: 2025-11-11 17:03:49 -0500 (Tue, 11 Nov 2025) EllapsedTime: 333.3 seconds RetCode: 0 Status: OK PackageFile: ClustIRR_1.8.0.tar.gz PackageFileSize: 3.033 MiB