Package: ClustIRR Version: 1.6.0 Command: /home/biocbuild/bbs-3.21-bioc/R/bin/R CMD INSTALL ClustIRR StartedAt: 2025-10-08 15:08:53 -0400 (Wed, 08 Oct 2025) EndedAt: 2025-10-08 15:12:13 -0400 (Wed, 08 Oct 2025) EllapsedTime: 200.2 seconds RetCode: 0 Status: OK