Package: ClustIRR Version: 1.6.0 Command: /home/biocbuild/bbs-3.21-bioc/R/bin/R CMD build --keep-empty-dirs --no-resave-data ClustIRR StartedAt: 2025-10-08 16:49:05 -0400 (Wed, 08 Oct 2025) EndedAt: 2025-10-08 16:54:26 -0400 (Wed, 08 Oct 2025) EllapsedTime: 321.3 seconds RetCode: 0 Status: OK PackageFile: ClustIRR_1.6.0.tar.gz PackageFileSize: 4.088 MiB