Package: ClustIRR Version: 1.6.0 Command: /Library/Frameworks/R.framework/Resources/bin/R CMD INSTALL ClustIRR StartedAt: 2025-10-13 15:15:48 -0400 (Mon, 13 Oct 2025) EndedAt: 2025-10-13 15:19:54 -0400 (Mon, 13 Oct 2025) EllapsedTime: 246.4 seconds RetCode: 0 Status: OK