Package: ClustIRR Version: 1.6.0 Command: /Library/Frameworks/R.framework/Resources/bin/R CMD build --keep-empty-dirs --no-resave-data ClustIRR StartedAt: 2025-10-13 17:59:10 -0400 (Mon, 13 Oct 2025) EndedAt: 2025-10-13 18:08:06 -0400 (Mon, 13 Oct 2025) EllapsedTime: 535.2 seconds RetCode: 0 Status: OK PackageFile: ClustIRR_1.6.0.tar.gz PackageFileSize: 3.903 MiB