Package: ClustIRR Version: 1.6.0 Command: rm -rf ClustIRR.buildbin-libdir && mkdir ClustIRR.buildbin-libdir && /Users/biocbuild/BBS/utils/build-universal.sh ClustIRR_1.6.0.tar.gz /Library/Frameworks/R.framework/Resources/bin/R ClustIRR.buildbin-libdir StartedAt: 2025-10-14 13:04:40 -0400 (Tue, 14 Oct 2025) EndedAt: 2025-10-14 13:11:25 -0400 (Tue, 14 Oct 2025) EllapsedTime: 405.0 seconds RetCode: 0 Status: OK PackageFile: ClustIRR_1.6.0.tgz PackageFileSize: 4.985 MiB